BEGIN:VCALENDAR
VERSION:2.0
PRODID:-//ChamberMaster//Event Calendar 2.0//EN
METHOD:PUBLISH
X-PUBLISHED-TTL:P3D
REFRESH-INTERVAL:P3D
CALSCALE:GREGORIAN
BEGIN:VEVENT
DTSTART:20260512T140000Z
DTEND:20260512T173000Z
X-MICROSOFT-CDO-ALLDAYEVENT:FALSE
SUMMARY:New Paradigm's Promo Product Palooza!
DESCRIPTION:Stop by to see the newest promotional products\, meet our team\, grab a swag bag\, and some refreshments.
X-ALT-DESC;FMTTYPE=text/html:Stop by to see the newest promotional products\, meet our team\, grab a swag bag\, and some refreshments.&nbsp\;
LOCATION:Holiday Inn & Suites Farmington Hills 33103 Hamilton Ct. Farmington Hills\, MI. 48334
UID:e.2052.1005
SEQUENCE:3
DTSTAMP:20260422T232659Z
URL:https://crm.mhcc.org/events/details/new-paradigm-s-promo-product-palooza-1005
END:VEVENT

END:VCALENDAR
