BEGIN:VCALENDAR
VERSION:2.0
PRODID:-//ChamberMaster//Event Calendar 2.0//EN
METHOD:PUBLISH
X-PUBLISHED-TTL:P3D
REFRESH-INTERVAL:P3D
CALSCALE:GREGORIAN
BEGIN:VEVENT
DTSTART;VALUE=DATE:20191116
DTEND;VALUE=DATE:20191117
TRANSP:TRANSPARENT
X-MICROSOFT-CDO-ALLDAYEVENT:TRUE
SUMMARY:ICONMA Tailgate - Michigan State vs Michigan
DESCRIPTION:Join ICONMA for an All-Star tailgate prior to the B1G TEN MSU v. Michigan rival football game! Whether your house is divided or not\, we hope you can touchdown with us in Ann Arbor. If you'd like to join us\, please RSVP on Eventbrite here.\n\n	Date: Saturday\, November 16\, 2019\n	Time: TBA -  Game time hasn't been announced yet. Our tailgate time will depend on game time\, so please RSVP for updates.\n\nWhat you can expect:\n\n\n	Tailgate only. No game tickets will be provided.\n	ICONMA clients and contacts will be in attendance. \n	If you would like to bring a guest\, please include them in your RSVP count on Eventbrite.\n	Prepare for cold weather\, but never fear we will have a tent and heat sources.\n	Good eats without a pocket penalty! Tailgate finger foods will be provided\, courtesy of ICONMA.\n	Score & Win BIG - Bring your game face to game day with corn hole\, football\, etc.\n	Whether you're a Spartan\, Wolverine\, or a house divided\, wear your colors to show your pride!\n\nPlease RSVP by November 10 so we can estimate proper headcount.\n\nPlease direct questions to Brigitte Neumayr (bneumayr@iconma.com)
X-ALT-DESC;FMTTYPE=text/html:<span style="font-family:arial\,sans-serif"><span style="font-size:11.0pt">Join ICONMA for an <a href="https://www.eventbrite.com/e/iconma-tailgate-michigan-state-vs-michigan-tickets-75377860209">All-Star tailgate</a> prior to the B1G TEN MSU v. Michigan rival football game! Whether your house is divided or not\, we hope you can touchdown with us in Ann Arbor. If you&#39\;d like to join us\, <a href="http://bit.ly/iconmaTailgate" target="_blank"><span style="color:#007C89">please RSVP on Eventbrite here.</span></a></span></span>\n<ul>\n	<li><strong><span style="font-family:arial\,sans-serif">Date: Saturday\, November 16\, 2019</span></strong></li>\n	<li><strong><span style="font-family:arial\,sans-serif">Time: TBA</span></strong><strong><span style="font-family:arial\,sans-serif"> - </span></strong>&nbsp\;<span style="font-family:arial\,sans-serif">Game time hasn&#39\;t been announced yet. Our tailgate time will depend on game time\, so please RSVP for updates.</span></li>\n</ul>\n<strong><span style="font-family:arial\,sans-serif">What you can expect:</span></strong>\n\n<ul>\n	<li><span style="font-family:arial\,sans-serif">Tailgate only. No game tickets will be provided.</span></li>\n	<li><span style="font-family:arial\,sans-serif">ICONMA clients and contacts will be in attendance. </span></li>\n	<li><span style="font-family:arial\,sans-serif">If you would like to bring a guest\, please include them in your RSVP count on <a href="https://www.eventbrite.com/e/iconma-tailgate-michigan-state-vs-michigan-tickets-75377860209">Eventbrite</a>.</span></li>\n	<li><span style="font-family:arial\,sans-serif">Prepare for cold weather\, but never fear we will have a tent and heat sources.</span></li>\n	<li><span style="font-family:arial\,sans-serif">Good eats without a pocket penalty! Tailgate finger foods will be provided\, courtesy of ICONMA.</span></li>\n	<li><span style="font-family:arial\,sans-serif">Score &amp\; Win BIG - Bring your game face to game day with corn hole\, football\, etc.</span></li>\n	<li><span style="font-family:arial\,sans-serif">Whether you&rsquo\;re a Spartan\, Wolverine\, or a house divided\, wear your colors to show your pride!</span></li>\n</ul>\n<strong><span style="font-family:arial\,sans-serif"><a href="https://www.eventbrite.com/e/iconma-tailgate-michigan-state-vs-michigan-tickets-75377860209">Please RSVP by November 10 so we can estimate proper headcount.</a></span></strong><br />\n<span style="font-family:arial\,sans-serif">Please direct questions to Brigitte Neumayr (bneumayr@iconma.com)</span><br />\n&nbsp\;
LOCATION:Ann Arbor Golf & Outing Club (The Golf Course) 400 E. Stadium Blvd Ann Arbor\, MI 48104
UID:e.2052.415
SEQUENCE:3
DTSTAMP:20260423T113139Z
URL:https://crm.mhcc.org/events/details/iconma-tailgate-michigan-state-vs-michigan-415
END:VEVENT

END:VCALENDAR
