BEGIN:VCALENDAR
VERSION:2.0
PRODID:-//ChamberMaster//Event Calendar 2.0//EN
METHOD:PUBLISH
X-PUBLISHED-TTL:P3D
REFRESH-INTERVAL:P3D
CALSCALE:GREGORIAN
BEGIN:VEVENT
DTSTART:20181115T003000Z
DTEND:20181114T210000Z
X-MICROSOFT-CDO-ALLDAYEVENT:FALSE
SUMMARY:2018 Toyota Opportunity Exchange
DESCRIPTION:Opportunity Exchange (OE) features engaging developmental seminars and a tradeshow that will allow you to expand your network with other diverse businesses and TOYOTA Tier I Suppliers (Direct and Plant Indirect).\n\nThrough our interactive app\, specifically designed for matchmaking on the tradeshow floor\, discover new opportunities for you company at TOYOTA's annual networking event.\n\nOpportunity Exchange registration is now open!\n\nRegistration is FREE for any certified-diverse company. Registration will close in early November. If you miss this date: registration is available on-site at Opportunity Exchange. However\, there is no guarantee of entrance due to capacity restraints\, so register fast or come early.
X-ALT-DESC;FMTTYPE=text/html:<p style="margin: 0px\; padding: 4px 0px\; text-align: left\; color: rgb(71\, 75\, 81)\; text-transform: none\; line-height: 24px\; text-indent: 0px\; letter-spacing: normal\; font-size: 16px\; font-style: normal\; font-variant: normal\; font-weight: 400\; text-decoration: none\; word-spacing: 0px\; white-space: normal\; box-sizing: border-box\; orphans: 2\; background-color: transparent\; -webkit-text-stroke-width: 0px\;">Opportunity Exchange (OE) features engaging developmental seminars and a tradeshow that will allow you to expand your network with other diverse businesses and TOYOTA Tier I Suppliers (Direct and Plant Indirect).</p>\n\n<p style="margin: 0px\; padding: 4px 0px\; text-align: left\; color: rgb(71\, 75\, 81)\; text-transform: none\; line-height: 24px\; text-indent: 0px\; letter-spacing: normal\; font-size: 16px\; font-style: normal\; font-variant: normal\; font-weight: 400\; text-decoration: none\; word-spacing: 0px\; white-space: normal\; box-sizing: border-box\; orphans: 2\; background-color: transparent\; -webkit-text-stroke-width: 0px\;">Through our interactive app\, specifically designed for matchmaking on the tradeshow floor\, discover new opportunities for you company at TOYOTA&rsquo\;s annual networking event.</p>\n\n<p style="margin: 0px\; padding: 4px 0px\; text-align: left\; color: rgb(71\, 75\, 81)\; text-transform: none\; line-height: 24px\; text-indent: 0px\; letter-spacing: normal\; font-size: 16px\; font-style: normal\; font-variant: normal\; font-weight: 400\; text-decoration: none\; word-spacing: 0px\; white-space: normal\; box-sizing: border-box\; orphans: 2\; background-color: transparent\; -webkit-text-stroke-width: 0px\;"><strong style="font-family: ToyotaType\; font-weight: 700\; box-sizing: border-box\;">Opportunity Exchange registration is now open!</strong></p>\n\n<p style="margin: 0px\; padding: 4px 0px\; text-align: left\; color: rgb(71\, 75\, 81)\; text-transform: none\; line-height: 24px\; text-indent: 0px\; letter-spacing: normal\; font-size: 16px\; font-style: normal\; font-variant: normal\; font-weight: 400\; text-decoration: none\; word-spacing: 0px\; white-space: normal\; box-sizing: border-box\; orphans: 2\; background-color: transparent\; -webkit-text-stroke-width: 0px\;">Registration is FREE for any certified-diverse company. Registration will close in early November. If you miss this date: registration is available on-site at Opportunity Exchange. However\, there is no guarantee of entrance due to capacity restraints\, so register fast or come early.</p>\n
LOCATION:Suburban Collection Showplace 46100 Grand River Ave Novi\, Michigan 48374 USA
UID:e.2052.255
SEQUENCE:3
DTSTAMP:20260419T144900Z
URL:https://crm.mhcc.org/events/details/2018-toyota-opportunity-exchange-255
END:VEVENT

END:VCALENDAR
